BEGIN:VCALENDAR
VERSION:2.0
PRODID:spatie/icalendar-generator
DESCRIPTION:Veranstaltungen von Fahrschule / Verkehrsausbildungszentrum Sto
 rch
X-WR-CALDESC:Veranstaltungen von Fahrschule / Verkehrsausbildungszentrum St
 orch
REFRESH-INTERVAL;VALUE=DURATION:PT1440M
X-PUBLISHED-TTL:PT1440M
BEGIN:VTIMEZONE
TZID:Europe/Berlin
BEGIN:STANDARD
DTSTART:20211031T030000Z
TZOFFSETFROM:+0200
TZOFFSETTO:+0100
END:STANDARD
BEGIN:DAYLIGHT
DTSTART:20220327T020000Z
TZOFFSETFROM:+0100
TZOFFSETTO:+0200
END:DAYLIGHT
BEGIN:STANDARD
DTSTART:20221030T030000Z
TZOFFSETFROM:+0200
TZOFFSETTO:+0100
END:STANDARD
END:VTIMEZONE
BEGIN:VTIMEZONE
TZID:UTC
BEGIN:STANDARD
DTSTART:20250723T130715Z
TZOFFSETFROM:+0000
TZOFFSETTO:+0000
END:STANDARD
END:VTIMEZONE
BEGIN:VEVENT
UID:328-210
DTSTAMP:20260419T130715Z
SUMMARY:BKF Modul 3: Sicherheit im Fokus
LOCATION:Filiale Breitungen  Petersbergerstr. 4  Breitungen  98597
ORGANIZER;CN=A Endter:MAILTO:a.endter@idea-mediengestaltung.de
DTSTART;TZID=Europe/Berlin;VALUE=DATE:20220430
DTEND;TZID=Europe/Berlin;VALUE=DATE:20220501
X-ALT-DESC;FMTTYPE=TEXT/HTML:Dauer: 1 Tag
CATEGORIES:Berufskraftfahrer
URL;VALUE=URI:https://fahrschule-storch.de/mc-events/bkf-modul-3-sicherheit
 -im-fokus-20
METHOD:PUBLISH
END:VEVENT
END:VCALENDAR